BEGIN:VCALENDAR
VERSION:2.0
PRODID:-//Cokata Coaching  - ECPv5.16.4//NONSGML v1.0//EN
CALSCALE:GREGORIAN
METHOD:PUBLISH
X-WR-CALNAME:Cokata Coaching 
X-ORIGINAL-URL:https://www.cokata.de
X-WR-CALDESC:Veranstaltungen für Cokata Coaching 
BEGIN:VTIMEZONE
TZID:Europe/Berlin
BEGIN:DAYLIGHT
TZOFFSETFROM:+0100
TZOFFSETTO:+0200
TZNAME:CEST
DTSTART:20190331T010000
END:DAYLIGHT
BEGIN:STANDARD
TZOFFSETFROM:+0200
TZOFFSETTO:+0100
TZNAME:CET
DTSTART:20191027T010000
END:STANDARD
END:VTIMEZONE
BEGIN:VEVENT
DTSTART;TZID=Europe/Berlin:20190126T100000
DTEND;TZID=Europe/Berlin:20190126T150000
DTSTAMP:20260422T102630
CREATED:20181001T114539Z
LAST-MODIFIED:20190126T120155Z
UID:908-1548496800-1548514800@www.cokata.de
SUMMARY:GESICHTLESEN - WORKSHOP - Die 5 Gesichter -  Mimik & Persönlichkeit!
DESCRIPTION:Workshop – Die 5 Gesichter\n \n\n\n\n\nErfahren Sie in diesem lebendigen Workshop: \n– Die 5 Gesichter der Mimik \n– Zuordnung der 5 Elemte aus der chinesischen Gesichtleskunst \n– Persönlichkeit und Talente erkennen \n– Gesichtlesen gleich anwenden und üben \n\n. \n. \n. \n. \nInfo: \n\nmaximal 10 Teilnehmer!\nGetränke und Verpflegung sind im Preis nicht enthalten (Getränke werden vom Vermieter gegen ein Entgeld zur Verfügung gestellt. Im Hause befindet sich ein Restaurant und weitere Möglichkeiten für die Mittagspause sind in unmittelbarer Nähe.)\nMittagpause: 1/2 Stunde\n\n\nJetzt anmelden \n 
URL:https://www.cokata.de/event/workshop-die-5-gesichter-mimik-persoenlichkeit/
LOCATION:Tagungsraum Wilmundsheim / Alte Post\, Burgstrasse 9\, Alzenau\, Bayern\, 63755\, Deutschland
CATEGORIES:Gesichtlesen
ATTACH;FMTTYPE=image/jpeg:https://www.cokata.de/wp-content/uploads/2018/10/Workshops-Neues-Begegnungsbewusstsein-e1548504071894.jpg
ORGANIZER;CN="Corinna%20Kern":MAILTO:corinnakern@cokata.de
END:VEVENT
END:VCALENDAR